BEGIN:VCALENDAR
VERSION:2.0
PRODID:-//FentanylSolution.org - ECPv6.1.2.2//NONSGML v1.0//EN
CALSCALE:GREGORIAN
METHOD:PUBLISH
X-WR-CALNAME:FentanylSolution.org
X-ORIGINAL-URL:https://fentanylsolution.org
X-WR-CALDESC:Events for FentanylSolution.org
REFRESH-INTERVAL;VALUE=DURATION:PT1H
X-Robots-Tag:noindex
X-PUBLISHED-TTL:PT1H
BEGIN:VTIMEZONE
TZID:America/Los_Angeles
BEGIN:DAYLIGHT
TZOFFSETFROM:-0800
TZOFFSETTO:-0700
TZNAME:PDT
DTSTART:20240310T100000
END:DAYLIGHT
BEGIN:STANDARD
TZOFFSETFROM:-0700
TZOFFSETTO:-0800
TZNAME:PST
DTSTART:20241103T090000
END:STANDARD
END:VTIMEZONE
BEGIN:VEVENT
DTSTART;TZID=America/Los_Angeles:20240315T190000
DTEND;TZID=America/Los_Angeles:20240315T220000
DTSTAMP:20260422T004147
CREATED:20240213T231343Z
LAST-MODIFIED:20240213T231343Z
UID:3809-1710529200-1710540000@fentanylsolution.org
SUMMARY:Stomp! VIP Launch Party
DESCRIPTION:Join us for a memorable evening of entertainment\, networking\, and raising awareness at the Stomp! VIP Launch Party. Sponsored by Be Good Restaurant & Experience. Get ready to indulge in an exclusive celebration featuring thrilling performances by Freedom Aerial\, Jennalyn\, and Joe Sparrow. \nSip on signature cocktails\, mocktails\, and non-alcoholic concoctions while mingling in our VIP lounge. Prepare to be dazzled by the flair bartending skills of TikTok sensation Mikey D’Amato\, who will be crafting drinks with flair and finesse. \nDon’t miss out on this prelude to the main event! The Stomp! VIP Launch Party sets the stage for the excitement of the upcoming Stomp! Fentanyl Fashion Show & Silent Auction. Whether you’re attending both events or just joining us for the launch party\, your presence makes a difference. \nSecure your spot now and let’s stomp out fentanyl together by purchasing your ticket here! \nHave questions? Contact Christine at christine@fentanylsolution.org.
URL:https://fentanylsolution.org/event/stomp-vip-launch-party/
LOCATION:Be Good Restaurant & Experience\, 300 Pacific Coast HWY # 112\, Huntington Beach\, CA\, 92648\, United States
CATEGORIES:Spreading Fentanyl Awareness,fashion and philanthropy,Stomp! Fentanyl Fashion Show
ATTACH;FMTTYPE=image/png:https://fentanylsolution.org/wp-content/uploads/2024/02/Pre-Show-updated-e1707865963994.png
END:VEVENT
END:VCALENDAR