BEGIN:VCALENDAR
VERSION:2.0
PRODID:-//FentanylSolution.org - ECPv6.1.2.2//NONSGML v1.0//EN
CALSCALE:GREGORIAN
METHOD:PUBLISH
X-WR-CALNAME:FentanylSolution.org
X-ORIGINAL-URL:https://fentanylsolution.org
X-WR-CALDESC:Events for FentanylSolution.org
REFRESH-INTERVAL;VALUE=DURATION:PT1H
X-Robots-Tag:noindex
X-PUBLISHED-TTL:PT1H
BEGIN:VTIMEZONE
TZID:America/Los_Angeles
BEGIN:DAYLIGHT
TZOFFSETFROM:-0800
TZOFFSETTO:-0700
TZNAME:PDT
DTSTART:20230312T100000
END:DAYLIGHT
BEGIN:STANDARD
TZOFFSETFROM:-0700
TZOFFSETTO:-0800
TZNAME:PST
DTSTART:20231105T090000
END:STANDARD
END:VTIMEZONE
BEGIN:VEVENT
DTSTART;TZID=America/Los_Angeles:20230821T113000
DTEND;TZID=America/Los_Angeles:20230821T160000
DTSTAMP:20260424T081809
CREATED:20230805T011102Z
LAST-MODIFIED:20230805T012921Z
UID:2114-1692617400-1692633600@fentanylsolution.org
SUMMARY:Celebrate National Fentanyl Awareness and Prevention Day in Florida
DESCRIPTION:
URL:https://fentanylsolution.org/event/celebrate-national-fentanyl-awareness-and-prevention-day-in-florida/
LOCATION:Center for Collaboration\, 1100 Rockledge Blvd.\, Rocklegde\, FL\, 32955\, United States
CATEGORIES:National Fentanyl Prevention and Awareness Day
ATTACH;FMTTYPE=image/jpeg:https://fentanylsolution.org/wp-content/uploads/2023/08/fl-nfwpd.jpg
END:VEVENT
END:VCALENDAR