BEGIN:VCALENDAR
VERSION:2.0
PRODID:-//FentanylSolution.org - ECPv6.1.2.2//NONSGML v1.0//EN
CALSCALE:GREGORIAN
METHOD:PUBLISH
X-ORIGINAL-URL:https://fentanylsolution.org
X-WR-CALDESC:Events for FentanylSolution.org
REFRESH-INTERVAL;VALUE=DURATION:PT1H
X-Robots-Tag:noindex
X-PUBLISHED-TTL:PT1H
BEGIN:VTIMEZONE
TZID:America/Los_Angeles
BEGIN:DAYLIGHT
TZOFFSETFROM:-0800
TZOFFSETTO:-0700
TZNAME:PDT
DTSTART:20240310T100000
END:DAYLIGHT
BEGIN:STANDARD
TZOFFSETFROM:-0700
TZOFFSETTO:-0800
TZNAME:PST
DTSTART:20241103T090000
END:STANDARD
END:VTIMEZONE
BEGIN:VEVENT
DTSTART;TZID=America/Los_Angeles:20240729T110000
DTEND;TZID=America/Los_Angeles:20240729T140000
DTSTAMP:20260419T203858
CREATED:20240724T183006Z
LAST-MODIFIED:20240724T183006Z
UID:4202-1722250800-1722261600@fentanylsolution.org
SUMMARY:Celebrate Shane K. M. Wood's Birthday with Prizes and a Star-Studded Meet & Greet!
DESCRIPTION:Celebrate Executive Director Shane K. M. Wood’s birthday with us! Enjoy an exciting giveaway with prizes worth hundreds of dollars and a meet and greet with Chris Hahn\, star of Netflix’s “Perfect Match” and “Dated and Related.” Pick up Kloxxado to meet Chris Hahn and join the festivities. Don’t miss this special event hosted by FentanylSolution.org!
URL:https://fentanylsolution.org/event/celebrate-shane-k-m-woods-birthday-with-prizes-and-a-star-studded-meet-greet/
LOCATION:Arroyo Park\, 1411 Bayswater Dr.\, Newport Beach\, CA\, 92660\, United States
CATEGORIES:Spreading Fentanyl Awareness,Free Kloxxado,Celebrity
ATTACH;FMTTYPE=image/png:https://fentanylsolution.org/wp-content/uploads/2024/07/dist-flyer-e1721845754979.png
END:VEVENT
END:VCALENDAR